BEGIN:VCALENDAR
VERSION:2.0
PRODID:-//Children&#039;s Dream Fund - ECPv6.15.20//NONSGML v1.0//EN
CALSCALE:GREGORIAN
METHOD:PUBLISH
X-ORIGINAL-URL:https://childrensdreamfund.org
X-WR-CALDESC:Events for Children&#039;s Dream Fund
REFRESH-INTERVAL;VALUE=DURATION:PT1H
X-Robots-Tag:noindex
X-PUBLISHED-TTL:PT1H
BEGIN:VTIMEZONE
TZID:America/New_York
BEGIN:DAYLIGHT
TZOFFSETFROM:-0500
TZOFFSETTO:-0400
TZNAME:EDT
DTSTART:20250309T070000
END:DAYLIGHT
BEGIN:STANDARD
TZOFFSETFROM:-0400
TZOFFSETTO:-0500
TZNAME:EST
DTSTART:20251102T060000
END:STANDARD
BEGIN:DAYLIGHT
TZOFFSETFROM:-0500
TZOFFSETTO:-0400
TZNAME:EDT
DTSTART:20260308T070000
END:DAYLIGHT
BEGIN:STANDARD
TZOFFSETFROM:-0400
TZOFFSETTO:-0500
TZNAME:EST
DTSTART:20261101T060000
END:STANDARD
BEGIN:DAYLIGHT
TZOFFSETFROM:-0500
TZOFFSETTO:-0400
TZNAME:EDT
DTSTART:20270314T070000
END:DAYLIGHT
BEGIN:STANDARD
TZOFFSETFROM:-0400
TZOFFSETTO:-0500
TZNAME:EST
DTSTART:20271107T060000
END:STANDARD
END:VTIMEZONE
BEGIN:VEVENT
DTSTART;TZID=America/New_York:20260306T070000
DTEND;TZID=America/New_York:20260306T170000
DTSTAMP:20260419T132734
CREATED:20260106T211040Z
LAST-MODIFIED:20260106T211248Z
UID:3005-1772780400-1772816400@childrensdreamfund.org
SUMMARY:Paul Davis Inshore Fishing Classic Benefitting Children's Dream Fund
DESCRIPTION:  \nExplore event details\, register your team\, and check out sponsorship opportunities at: https://pdrinshoreclassic.com/\n  \nFriday\, March 6th\, 2026 \n7 AM – 5 PM \nHula Bay Club  \n5210 W Tyson Ave\, Tampa\, FL \n  \nGrab your crew\, mark your calendars\, and get ready to reel in some good times for a great cause!
URL:https://childrensdreamfund.org/event/paul-davis-inshore-fishing-classic-benefitting-childrens-dream-fund/
LOCATION:Hula Bay Club\, 5210 W Tyson Ave\, Tampa\, FL\, 33611\, United States
CATEGORIES:Fundraising
ATTACH;FMTTYPE=image/png:https://childrensdreamfund.org/wp-content/uploads/2026/01/Screenshot-2026-01-06-161023.png
ORGANIZER;CN="Children's Dream Fund":MAILTO:ewalsh@childrensdreamfund.org
END:VEVENT
END:VCALENDAR